Workbook

Sheet Instructions
A1: 1. Select County Name from the dropdown.
A2: 2. Enter the information year.
A3: 3. Complete all fields for all tables when totals/dates have change from prior six month report.
A4: 4. Keep a copy for your self. Email spreadsheet to | F4: localassistance@stc.mo.gov
A5: 5. Contact | B5: Larry Jones at 573-751-1726 | E5: larry.jones@stc.mo.gov
B6: Larry Hixson at 573-751-1733 or | E6: larry.hixson@stc.mo.gov

Sheet Sheet1
A1: 6102

Sheet January-December
B1: Quarterly Totals for | D1: Adair | E1: County | F1: Today's Date: | G1: =NOW() -> 45001.757 | H1: Instructions
H2: 1. Select County Name from the dropdown in the yellow highlighted cell. | Q2: Adair
B3: Email to: | C3: Assessment Representative | E3: For Year: | F3: 2023 | H3: 2. Enter the assessment year the information represents. | Q3: Andrew
B4: Phone Number: | C4: 573-751-1735 | H4: 3. Complete information for all tables for January to June. | Q4: Atchison
B5: Date Report Submitted to State Tax Commission: | H5: 4. Keep a copy for your self. Email spreadsheet to: | L5: Assessment Representative | Q5: Audrain
B6: Please submit completed electronic file of Yearly Totals for Mapping Transactions, Sales Letters, Livestock Values, Information Hearing/BOE totals, and Personal Property Totals to the State Tax Commission for January - June by September 1st and July - December by April 15th annually. | H6: 5. Contact | Q6: Barry
H7: Larry Jones at 573-751-1726 | K7: larry.jones@stc.mo.gov | Q7: Barton
H8: Larry Hixson at 573-751-1733 or | K8: larry.hixson@stc.mo.gov | Q8: Bates
Q9: Benton
Q10: Bollinger
B11: Mapping | J11: New Construction | Q11: Boone
B12: Time/Frame | C12: Number of Documents | D12: Number of Transfers | E12: Number of New Parcels | F12: Number of Deletions | G12: # of New Subdivisions | H12: Number of New Lots | J12: Total New Const Res Assessed Value | L12: # New Construction Structures | Q12: Buchanan
B13: Jan - Mar | J13: Total New Const Ag Assessed Value | L13: # New(Stick Built) Homes Completed | Q13: Butler
B14: Apr - June | J14: Total New Const Com Assessed Value | L14: Total Appraised Value for # New (Stick Built) Homes Completed | Q14: Caldwell
B15: July - Sept | J15: Total Value | K15: =SUM(K12:K14) -> 0 | L15: Avg New Mkt Value | M15: =IF(ISBLANK(M14)," ",(M14/M13)) | Q15: Callaway
B16: Oct - Dec | Q16: Camden
Q17: Cape Girardeau
B18: Total | C18: =SUM(C13:C16) -> 0 | D18: =SUM(D13:D16) -> 0 | E18: =SUM(E13:E16) -> 0 | F18: =SUM(F13:F16) -> 0 | G18: =SUM(G13:G16) -> 0 | H18: =SUM(H13:H16) -> 0 | Q18: Carroll
Q19: Carter
B20: Sale Letters | H20: Informal Hearings and BOE | Q20: Cass
B21: Time/Frame | C21: Sales Letters Mailed | D21: Sales Letters Returned | E21: Sales Letters Usable | H21: Revaluation Year | K21: =F3 -> 2023 | L21: # Informal Hearings Held | Q21: Cedar
B22: Jan - Mar | H22: Date Field Inspections Completed | L22: # BOE Hearings Scheduled | Q22: Chariton
B23: Apr - June | J23: Date Assessment Roll Completed | L23: # BOE Held | Q23: Christian
B24: July - Sept | H24: Date Impact Notices Mailed | L24: # of BOE Changes | Q24: Clark
B25: Oct - Dec | H25: # Impact Notices Mailed | Q25: Clay
Q26: Clinton
B27: Total | C27: =SUM(C22:C25) -> 0 | D27: =SUM(D22:D25) -> 0 | E27: =SUM(E22:E25) -> 0 | Q27: Cole
Q28: Cooper
B29: Livestock (Dollar amount per head) | J29: Personal Property Assessment Lists | Q29: Crawford
B30: Calves | C30: 35 | D30: Slaughter Lambs | E30: 8 | K30: Number Mailed | L30: Date Mailed | Q30: Dade
B31: Yearlings | C31: 40 | D31: Replacement Ewes | E31: 6 | J31: PP Number | Q31: Dallas
B32: Cows/Bulls | C32: 50 | D32: Feeder Lambs | E32: 6 | J32: 2nd Notices | Q32: Daviess
B33: Other Bovine | C33: 0 | D33: Other Lambs | E33: 0 | Q33: Dekalb
B34: Sows/Boars | C34: 9 | D34: Goats | E34: 0 | Q34: Dent
B35: Barrows/Gilt | C35: 6 | D35: Emus | E35: 0 | Q35: Douglas
B36: Pigs | C36: 4 | D36: Horses | E36: 10 | Q36: Dunklin
B37: Other | C37: 0 | D37: Other | E37: 0 | Q37: Franklin
Q38: Gasconade
Q39: Gentry
Q40: Greene
...

Sheet July-December
B1: Quarterly Totals for | D1: ='January-December'!D1 -> Adair | E1: County | F1: Today's Date: | G1: =NOW() -> 45001.757 | H1: Instructions
H2: 1. Select County Name from the dropdown.
B3: Email to: | C3: localassistance@stc.mo.gov | E3: For Year: | F3: 2017 | H3: 2. Enter the assessment year the information represents.
B4: Phone Number: | C4: 573-751-1735 | H4: 3. Complete information for all tables for July through December.
B5: Date Report Submitted to State Tax Commission: | F5: 43166 | H5: 4. Keep a copy for yourself. Email spreadsheet to | L5: localassistance@stc.mo.gov
H6: 5. Contact Jan Elliott at 573-751-1708 or | K6: jan.elliott@stc.mo.gov
H7: Jeff Schmidt at 573-751-1726 or | K7: jeff.schmidt@stc.mo.gov
H8: Larry Hixson at 573-751-1733 or | K8: larry.hixson@stc.mo.gov
B11: Mapping | J11: New Construction
B12: Time/Frame | C12: Number of Documents | D12: Number of Transfers | E12: Number of New Parcels | F12: Number of Deletions | G12: # of New Subdivisions | H12: Number of New Lots | J12: Total Res Assessed Value | K12: ='January-December'!K12 -> 0 | L12: # New Construction Structures | M12: ='January-December'!M12 -> 0
B13: Jan - Mar | C13: ='January-December'!C13 -> 0 | D13: ='January-December'!D13 -> 0 | E13: ='January-December'!E13 -> 0 | F13: ='January-December'!F13 -> 0 | G13: ='January-December'!G13 -> 0 | H13: ='January-December'!H13 -> 0 | J13: Total Ag Assessed Value | K13: ='January-December'!K13 -> 0 | L13: # New(Stick Built) Homes Completed | M13: ='January-December'!M13 -> 0
B14: Apr - June | C14: ='January-December'!C14 -> 0 | D14: ='January-December'!D14 -> 0 | E14: ='January-December'!E14 -> 0 | F14: ='January-December'!F14 -> 0 | G14: ='January-December'!G14 -> 0 | H14: ='January-December'!H14 -> 0 | J14: Total Com Assessed Value | K14: ='January-December'!K14 -> 0 | L14: Total Appraised Value for # New (Stick Built) Homes Completed | M14: ='January-December'!M14 -> 0
B15: July - Sept | C15: ='January-December'!C15 -> 0 | D15: ='January-December'!D15 -> 0 | E15: ='January-December'!E15 -> 0 | F15: ='January-December'!F15 -> 0 | G15: ='January-December'!G15 -> 0 | H15: ='January-December'!H15 -> 0 | J15: Total Value | K15: =SUM(K12:K14) -> 0 | L15: Avg New Mkt Value | M15: =IF(M13=0," ",(M14/M13))
B16: Oct - Dec | C16: ='January-December'!C16 -> 0 | D16: ='January-December'!D16 -> 0 | E16: ='January-December'!E16 -> 0 | F16: ='January-December'!F16 -> 0 | G16: ='January-December'!G16 -> 0 | H16: ='January-December'!H16 -> 0 | L16: Housing Starts | M16: ='January-December'!M16 -> 0
L17: Number Housing Completed | M17: ='January-December'!M17 -> 0
B18: Total | C18: =SUM(C13:C16) -> 0 | D18: =SUM(D13:D16) -> 0 | E18: =SUM(E13:E16) -> 0 | F18: =SUM(F13:F16) -> 0 | G18: =SUM(G13:G16) -> 0 | H18: =SUM(H13:H16) -> 0
B20: Sale Letters | H20: Informal Hearings and BOE
B21: Time/Frame | C21: Sales Letters Mailed | D21: Sales Letters Returned | E21: Sales Letters Usable | H21: Revaluation Year | K21: =F3 -> 2017 | L21: # Informal Hearings Held | M21: ='January-December'!M21 -> 0
B22: Jan - Mar | C22: ='January-December'!C22 -> 0 | D22: ='January-December'!D22 -> 0 | E22: ='January-December'!E22 -> 0 | H22: Date Field Inspections Completed | K22: ='January-December'!K22 -> 0 | L22: # BOE Hearings Scheduled | M22: ='January-December'!M22 -> 0
B23: Apr - June | C23: ='January-December'!C23 -> 0 | D23: ='January-December'!D23 -> 0 | E23: ='January-December'!E23 -> 0 | J23: Date Assessment Roll Completed | K23: ='January-December'!K23 -> 0 | L23: # BOE Held | M23: ='January-December'!M23 -> 0
B24: July - Sept | C24: ='January-December'!C24 -> 0 | D24: ='January-December'!D24 -> 0 | E24: ='January-December'!E24 -> 0 | H24: Date Impact Notices Mailed | K24: ='January-December'!K24 -> 0 | L24: # of BOE Changes | M24: ='January-December'!M24 -> 0
B25: Oct - Dec | C25: ='January-December'!C25 -> 0 | D25: ='January-December'!D25 -> 0 | E25: ='January-December'!E25 -> 0 | H25: # Impact Notices Mailed | K25: ='January-December'!K25 -> 0
B27: Total | C27: =SUM(C22:C25) -> 0 | D27: =SUM(D22:D25) -> 0 | E27: =SUM(E22:E25) -> 0
B29: Livestock (Dollar amount per head) | J29: Personal Property Assessment Lists
B30: Calves | C30: 50 | D30: Slaughter Lambs | E30: 10 | K30: Number Mailed | L30: Date Mailed
B31: Yearlings | C31: 60 | D31: Replacement Ewes | E31: 7 | J31: PP Number | K31: ='January-December'!K31 -> 0 | L31: ='January-December'!L31 -> 0
B32: Cows/Bulls | C32: 70 | D32: Feeder Lambs | E32: 7 | J32: 2nd Notices | K32: ='January-December'!K32 -> 0 | L32: ='January-December'!L32 -> 0
B33: Other Bovine | C33: ='January-December'!C33 -> 0 | D33: Other Lambs | E33: ='January-December'!E33 -> 0
B34: Sows/Boars | C34: 11 | D34: Ostrich | E34: ='January-December'!E34 -> 0
B35: Barrows/Gilt | C35: 7 | D35: Emus | E35: ='January-December'!E35 -> 0
B36: Pigs | C36: 5 | D36: Horses | E36: 10
B37: Other | C37: ='January-December'!C37 -> 0 | D37: Other | E37: ='January-December'!E37 -> 0

Sheet Import
A1: County | B1: Number | C1: Region | D1: Total Value | E1: ASD/APR | F1: Res | G1: Ag | H1: Com | I1: # Entries | J1: # New Homes | K1: New Home Value | L1: Avg New Mkt Value | M1: Housing Starts | N1: Number Completed | O1: Revaluation | P1: Field Date | Q1: Book Date | R1: Date Mailed | S1: # Mailed | T1: # Hearings Held | U1: # Scheduled | V1: BOE Held | W1: # of Changes | X1: LivestockDate | Y1: Calves | Z1: Yearlings | AA1: Cows/Bulls | AB1: Other Bovine | AC1: Sows/Boars | AD1: Barrows/Gilt | AE1: Pigs | AF1: Other Porcine | AG1: Slaughter Lambs | AH1: Ewes | AI1: Feeder Lambs | AJ1: Other Lamb | AK1: Ostriches | AL1: Emus | AM1: Horses | AN1: Other | AO1: PP Number Mailed | AP1: 1st Mailed | AQ1: Number of 2nd mailings | AR1: 2nd Mailed | AS1: PersPropDate | AT1: DOC | AU1: Transfers | AV1: # Parcels | AW1: Deletes | AX1: SLS LTR TF | AY1: SlsLettersMailed | AZ1: # Returned | BA1: Usable
A2: ='July-December'!D1 -> Adair | B2: =VLOOKUP(A2,CountyNumbers!A1:C116,2,FALSE) -> 1 | C2: =VLOOKUP(A2,CountyNumbers!A1:C116,3,FALSE) -> 2 | D2: ='July-December'!K15 -> 0 | E2: ='July-December'!K17 -> 0 | F2: ='July-December'!K12 -> 0 | G2: ='July-December'!K13 -> 0 | H2: ='July-December'!K14 -> 0 | I2: ='July-December'!M12 -> 0 | J2: ='July-December'!M13 -> 0 | K2: ='July-December'!M14 -> 0 | L2: ='July-December'!M15 | M2: ='July-December'!M16 -> 0 | N2: ='July-December'!M17 -> 0 | O2: ='July-December'!K21 -> 2017 | P2: ='July-December'!K22 -> 0 | Q2: ='July-December'!K23 -> 0 | R2: ='July-December'!K24 -> 0 | S2: ='July-December'!K25 -> 0 | T2: ='July-December'!M21 -> 0 | U2: ='July-December'!M22 -> 0 | V2: ='July-December'!M23 -> 0 | W2: ='July-December'!M24 -> 0 | X2: ='July-December'!F5 -> 43166 | Y2: ='July-December'!$C30 -> 50 | Z2: ='July-December'!$C31 -> 60 | AA2: ='July-December'!$C32 -> 70 | AB2: ='July-December'!$C33 -> 0 | AC2: ='July-December'!$C34 -> 11 | AD2: ='July-December'!$C35 -> 7 | AE2: ='July-December'!$C36 -> 5 | AF2: ='July-December'!$C37 -> 0 | AG2: ='July-December'!$E30 -> 10 | AH2: ='July-December'!$E31 -> 7 | AI2: ='July-December'!$E32 -> 7 | AJ2: ='July-December'!$E33 -> 0 | AK2: ='July-December'!$E34 -> 0 | AL2: ='July-December'!$E35 -> 0 | AM2: ='July-December'!$E36 -> 10 | AN2: ='July-December'!E37 -> 0 | AO2: ='July-December'!K31 -> 0 | AP2: ='July-December'!L31 -> 0 | AQ2: ='July-December'!K32 -> 0 | AR2: ='July-December'!L32 -> 0 | AS2: ='July-December'!F5 -> 43166 | AT2: ='July-December'!C18 -> 0 | AU2: ='July-December'!D18 -> 0 | AV2: ='July-December'!E18 -> 0 | AW2: ='July-December'!F18 -> 0 | AY2: ='July-December'!C27 -> 0 | AZ2: ='July-December'!D27 -> 0 | BA2: ='July-December'!E27 -> 0

Sheet CountyNumbers
A1: County | B1: Num | C1: Reg
A2: Adair | B2: 1 | C2: 2
A3: Andrew | B3: 2 | C3: 3
A4: Atchison | B4: 3 | C4: 3
A5: Audrain | B5: 4 | C5: 7
A6: Barry | B6: 5 | C6: 6
A7: Barton | B7: 6 | C7: 6
A8: Bates | B8: 7 | C8: 6
A9: Benton | B9: 8 | C9: 6
A10: Bollinger | B10: 9 | C10: 8
A11: Boone | B11: 10 | C11: 11
A12: Buchanan | B12: 11 | C12: 3
A13: Butler | B13: 12 | C13: 8
... A116: St. Louis City | B116: 115 | C116: 11
