Workbook
Name Co_Name: '[1]STC-Co-Names'!$A$1:$A$142
Name County: '[1]County Names'!$A$1:$A$116
Name County_Name_No: '[1]County Names'!$A$1:$B$116

Sheet Missouri Cover
BP2: 2024 | CC2: 2019
CC3: 2020
CC4: 2021
BP5: TAX YEAR | CC5: 2022
CC6: 2023
CC7: 2024
CC8: 2025
CC9: 2026
CC10: 2027
CC11: 2028
A17: STATE TAX COMMISSION OF MISSOURI (COMMISSION) 421 EAST DUNKLIN STREET PO BOX 146 JEFFERSON CITY MO 65102-0146 https://stc.mo.gov
H36: Company Name: | AM36: Company Account Number:
AM38: =IF(H38="","",VLOOKUP(H38,'Company Name'!A1:B55,2,FALSE))
N43: FOR THE YEAR ENDED DECEMBER 31, | AX43: =$BP$2-1 -> 2023
A47: ORIGINAL ASSESSMENT SECTION (573) 751-2414 (option 3) OriginalAssessment@stc.mo.gov THIS STATEMENT IS SUBJECT TO AUDIT
A89: Contact Jeffrey Smith, Manager – Original Assessment Section at 573-526-6403, or jeffrey.smith@stc.mo.gov for assistance.

Sheet Schedule 1
E2: State Tax Commission of Missouri PO BOX 146 Jefferson City, MO 65102-0146 573-751-2414 (option 3) https://stc.mo.gov email: OriginalAssessment@stc.mo.gov
O3: Schedule 1
A8: Tax Year: | E8: ='Missouri Cover'!BP2 -> 2024 | F8: Company Organization - General Information
A9: Company Name: | M9: Account Number:
A10: =IF('Missouri Cover'!$H$38="","",'Missouri Cover'!$H$38) | M10: ='Missouri Cover'!$AM$38
A12: A. Check the reports being submitted with this rendition or list date to be submitted:
B13: 1. Federal Communications Commission Annual Report | M13: 5. Annual Report to Stockholders-Parent Company
B14: 2. Federal Energy Regulatory Commission Annual Report | M14: 6. Securities and Exchange Commission: Form 10 K-Parent Company
B15: 3. Surface Transportation Board Annual Report | M15: 7. Annual Report to Stockholders-Subsidiary
B16: 4. Missouri Public Service Commission | M16: 8. Securities and Exchange Commission: Form 10 K-Subsidiary
A18: List Report Number(s) and Date(s) to be Submitted:
A20: B. Give brief description of development of operation and any reasons for growth or decline:
A23: C. Report details of any change in ownership including mergers and/or acquisitions that occurred during the reporting year (including dates, considerations, terms, and all pertinent data):
A27: D. State the True Value in Money of the Taxpayer's Property:
A28: True Value in Money: System (Optional) | K28: True Value in Money: Missouri (Optional)
A31: Being duly sworn, upon my oath I state that I am the | R31: [title]
A32: of the company and, that the foregoing is the full, true and correct summary to the best of my belief.
A33: Signature | P33: as of January 1, | R33: =E8 -> 2024
A34: Print Name
A36: E. Notary Information:
A37: State of | M37: County (or St. Louis City)
A39: Subscribed and sworn to me, this | M39: Notary Public Stamp or Embosser Seal
D40: day of | J40: [month]
A41: in the year
A42: Notary Public Signature
A43: My Commission Expires
A45: 45292 | R45: Schedule 1.xlsx

Sheet Form 12
E2: State Tax Commission of Missouri PO BOX 146 Jefferson City, MO 65102-0146 573-751-2414 (option 3) https://stc.mo.gov email: OriginalAssessment@stc.mo.gov
O3: Form 12
A8: Tax Year: | E8: ='Schedule 1'!E8 -> 2024 | F8: Aggregate Statement of Taxable Property
A9: Company Name: | M9: Account Number:
A10: =IF('Missouri Cover'!$H$38="","",'Missouri Cover'!$H$38) | M10: ='Missouri Cover'!$AM$38
A12: Company Name:
A13: Address 1:
A14: Address 2:
A15: City / State / Zip Code:
A16: Contact Name:
A17: Title:
A18: Phone Number / Fax / Cell:
A19: Email (Required):
A20: Notification: | G20: (if different from Company Information)
A21: Contact Name:
A22: Title:
A23: Address 1:
A24: Address 2:
A25: City / State / Zip Code:
A26: Phone Number / Fax / Cell:
A27: Email (Required):
A28: Billing Information: | F28: (if different from Company Information and Notification/Correspondence) | G28: (if different from Company Information or Notification)
A29: Contact Name and/or Department:
A30: Address 1:
A31: Address 2:
A32: City / State / Zip Code:
A33: Phone Number / Fax / Cell:
A34: Email (Required):
A35: Type of Business / Industry:
B37: Electric (103) | H37: Railroad (106) | P37: Telecommunications (Fiber) (107)
B38: Fluid Pipeline (104) | H38: Terminal Railroad (106) | P38: Telecommunications (ILEC) (108)
B39: Natural Gas Pipeline (105) | H39: Centrally Assessed Private Car Companies (110) | P39: Telecommunications (Cable) (109)
B40: Commercial Aircraft Owned By Others (CAOBO) (120)
B41: Commercial Aircraft Owned By Airlines (CAOBA) (130)
A44: 45292 | R44: Form 12.xlsx

Sheet Schedule 3CA
E2: State Tax Commission of Missouri PO BOX 146 Jefferson City, MO 65102-0146 573-751-2414 (option 3) https://stc.mo.gov email: OriginalAssessment@stc.mo.gov
O3: Schedule 3CA
O6: Commercial Aircraft
A8: Tax Year: | E8: ='Schedule 1'!E8 -> 2024 | F8: Supplemental Information
A9: Company Name: | M9: Account Number:
A10: =IF('Missouri Cover'!$H$38="","",'Missouri Cover'!$H$38) | M10: ='Missouri Cover'!$AM$38
A11: A.
A12: COMMERCIAL AIRCRAFT OWNED BY AIRLINES (CAOBA) and COMMERCIAL AIRCRAFT OWNED BY OTHERS (CAOBO)
A13: ALLOCATION TO MISSOURI
M14: MISSOURI | P14: SYSTEM | R14: ALLOCATION (%)
A15: Fleet Number: | F15: Aircraft Miles Flown: | R15: =IF(P15>0, M15/P15,"")
A16: B.
A17: COMMERCIAL AIRCRAFT OWNED BY AIRLINES (CAOBA)
E18: Enter an "X" if Filing as an Airline Company
A20: List Below: Airports and Locations in Missouri with Arrivals and Departures for Apportionment to Missouri Counties.
A21: LINE NO. | B21: COUNTY | F21: AIRPORT FAA CODE * | M21: ARRIVALS AND DEPARTURES | Q21: ALLOCATION (%)
A22: 1 | Q22: =IF(M22>0, M22/$M$27,"")
A23: 2 | Q23: =IF(M23>0, M23/$M$27,"")
A24: 3 | Q24: =IF(M24>0, M24/$M$27,"")
A25: 4 | Q25: =IF(M25>0, M25/$M$27,"")
A26: 5 | Q26: =IF(M26>0, M26/$M$27,"")
A27: 6 | B27: Total: | M27: =IF(SUM(M22:P26)>0, SUM(M22:P26),"") | Q27: =IF(SUM(Q22:R26)>0, SUM(Q22:R26),"")
A28: * For Arrivals and Departures other than at Airports, i.e., Helicopter Pads: Provide the Helicopter Pad Identifier and Physical Address, with Zip Code, in each County.
A29: C.
A30: COMMERCIAL AIRCRAFT OWNED BY OTHERS (CAOBO)
E31: Enter an "X" if Owner is an Individual
E33: Enter an "X" if Owner is a Corporation
A35: List Below: the Airport Location Information for Apportionment to a Missouri County **
A36: LINE NO. | B36: COUNTY | M36: AIRPORT FAA CODE
A37: 7
A38: ** Aircraft MUST be declared on a personal property list filed with the County Assessor and, in addition, a "Commercial Aircraft" Claim MUST be made to the County Assessor before submitting Schedule 3CA.
A40: 45292 | R40: Schedule 3CA.xlsx

Sheet Schedule 20CA
D2: State Tax Commission of Missouri PO BOX 146 Jefferson City, MO 65102-0146 573-751-2414 (option 3) https://stc.mo.gov email: OriginalAssessment@stc.mo.gov
O3: Schedule 20CA
O6: Commercial Aircraft
A8: Tax Year: | D8: ='Schedule 1'!E8 -> 2024 | F8: Inventory
A9: Company Name: | M9: Account Number:
A10: =IF('Missouri Cover'!$H$38="","",'Missouri Cover'!$H$38) | M10: ='Missouri Cover'!$AM$38
A12: LINE NO. | B12: FLEET NUMBER | D12: MAKE | H12: MODEL | M12: YEAR | O12: AIRCRAFT SERIAL NUMBER | Q12: AIRCRAFT TAIL NUMBER
A13: 1
A14: 2
A15: 3
A16: 4
A17: 5
A18: 6
A19: 7
A20: 8
A21: 9
A22: 10
A24: 45292 | Q24: Schedule 20CA.xlsx

Sheet Company Name
A2: NEW COMPANY - CAOBA | B2: 1300XXX
A3: ABX Air, Inc | B3: 1300203
A4: Air Crossland, LLC | B4: 1300289
A5: Air Evac EMS, Inc | B5: 1300234
A6: Air Transport International, Inc | B6: 1300141
A7: Air Wisconsin Airlines, LLC | B7: 1300185
A8: Alaska Airlines, Inc | B8: 1300243
A9: Allegiant Air, LLC | B9: 1300144
A10: American Airlines, Inc | B10: 1300105
A11: Ameriflight, LLC | B11: 1300110
A12: Atlas Air, Inc | B12: 1300276
A13: Berry Aviation, Inc | B13: 1300191
A14: Business Aviation, LLC | B14: 1300260
... A55: X-Ray Lima Sierra, LLC | B55: 1300285
